Workbook

Sheet Employee Master
A1: Employee ID | B1: Employee Name | C1: Department | D1: Monthly Gross Salary | E1: Regime | F1: Standard Deduction (Annual) | G1: Other Eligible Deductions | H1: TDS Already Paid (Annual)
A2: EMP2001 | B2: Aarav Mehta | C2: HR | D2: 42000 | E2: New | F2: 75000 | G2: 0 | H2: 0
A3: EMP2002 | B3: Nisha Rao | C3: Payroll | D3: 46500 | E3: New | F3: 75000 | G3: 0 | H3: 0
A4: EMP2003 | B4: Rohan Das | C4: Admin | D4: 38500 | E4: New | F4: 75000 | G4: 0 | H4: 0
A5: EMP2004 | B5: Meera Iyer | C5: Finance | D5: 51000 | E5: Old | F5: 50000 | G5: 100000 | H5: 12000
A6: EMP2005 | B6: Kabir Shah | C6: HR | D6: 44000 | E6: New | F6: 75000 | G6: 0 | H6: 0
A7: EMP2006 | B7: Anaya Sen | C7: Payroll | D7: 47500 | E7: New | F7: 75000 | G7: 0 | H7: 0
A8: EMP2007 | B8: Dev Patel | C8: Admin | D8: 36000 | E8: Old | F8: 50000 | G8: 80000 | H8: 6000
A9: EMP2008 | B9: Tara Nair | C9: Finance | D9: 53500 | E9: New | F9: 75000 | G9: 0 | H9: 0
A10: EMP2009 | B10: Ishaan Roy | C10: HR | D10: 45500 | E10: New | F10: 75000 | G10: 0 | H10: 0
A11: EMP2010 | B11: Sara Khan | C11: Payroll | D11: 49000 | E11: Old | F11: 50000 | G11: 120000 | H11: 15000

Sheet Monthly Payroll
A1: Tax Year | B1: Month | C1: Employee ID | D1: Employee Name | E1: Department | F1: Monthly Gross | G1: Basic Salary (Editable) | H1: HRA (Editable) | I1: Other Allowances | J1: Gross Pay | K1: PF % (Example) | L1: PF Deduction | M1: ESI % (Example) | N1: ESI Deduction | O1: TDS Monthly Estimate | P1: Other Deductions | Q1: Net Pay
A2: 2026-27 | B2: April | C2: EMP2001 | D2: =IFERROR(VLOOKUP(C2,'Employee Master'!$A:$H,2,FALSE()),"") -> Aarav Mehta | E2: =IFERROR(VLOOKUP(C2,'Employee Master'!$A:$H,3,FALSE()),"") -> HR | F2: =IFERROR(VLOOKUP(C2,'Employee Master'!$A:$H,4,FALSE()),0) -> 42000 | G2: =F2*0.5 -> 21000 | H2: =F2*0.2 -> 8400 | I2: =F2-G2-H2 -> 12600 | J2: =G2+H2+I2 -> 42000 | K2: 0.12 | L2: =G2*K2 -> 2520 | M2: 0.0075 | N2: =J2*M2 -> 315 | O2: =IFERROR(VLOOKUP(C2,'Annual Tax Summary'!$A:$O,15,FALSE()),0) -> 0 | P2: 0 | Q2: =J2-L2-N2-O2-P2 -> 39165
A3: 2026-27 | B3: May | C3: EMP2001 | D3: =IFERROR(VLOOKUP(C3,'Employee Master'!$A:$H,2,FALSE()),"") -> Aarav Mehta | E3: =IFERROR(VLOOKUP(C3,'Employee Master'!$A:$H,3,FALSE()),"") -> HR | F3: =IFERROR(VLOOKUP(C3,'Employee Master'!$A:$H,4,FALSE()),0) -> 42000 | G3: =F3*0.5 -> 21000 | H3: =F3*0.2 -> 8400 | I3: =F3-G3-H3 -> 12600 | J3: =G3+H3+I3 -> 42000 | K3: 0.12 | L3: =G3*K3 -> 2520 | M3: 0.0075 | N3: =J3*M3 -> 315 | O3: =IFERROR(VLOOKUP(C3,'Annual Tax Summary'!$A:$O,15,FALSE()),0) -> 0 | P3: 0 | Q3: =J3-L3-N3-O3-P3 -> 39165
A4: 2026-27 | B4: June | C4: EMP2001 | D4: =IFERROR(VLOOKUP(C4,'Employee Master'!$A:$H,2,FALSE()),"") -> Aarav Mehta | E4: =IFERROR(VLOOKUP(C4,'Employee Master'!$A:$H,3,FALSE()),"") -> HR | F4: =IFERROR(VLOOKUP(C4,'Employee Master'!$A:$H,4,FALSE()),0) -> 42000 | G4: =F4*0.5 -> 21000 | H4: =F4*0.2 -> 8400 | I4: =F4-G4-H4 -> 12600 | J4: =G4+H4+I4 -> 42000 | K4: 0.12 | L4: =G4*K4 -> 2520 | M4: 0.0075 | N4: =J4*M4 -> 315 | O4: =IFERROR(VLOOKUP(C4,'Annual Tax Summary'!$A:$O,15,FALSE()),0) -> 0 | P4: 0 | Q4: =J4-L4-N4-O4-P4 -> 39165
A5: 2026-27 | B5: July | C5: EMP2001 | D5: =IFERROR(VLOOKUP(C5,'Employee Master'!$A:$H,2,FALSE()),"") -> Aarav Mehta | E5: =IFERROR(VLOOKUP(C5,'Employee Master'!$A:$H,3,FALSE()),"") -> HR | F5: =IFERROR(VLOOKUP(C5,'Employee Master'!$A:$H,4,FALSE()),0) -> 42000 | G5: =F5*0.5 -> 21000 | H5: =F5*0.2 -> 8400 | I5: =F5-G5-H5 -> 12600 | J5: =G5+H5+I5 -> 42000 | K5: 0.12 | L5: =G5*K5 -> 2520 | M5: 0.0075 | N5: =J5*M5 -> 315 | O5: =IFERROR(VLOOKUP(C5,'Annual Tax Summary'!$A:$O,15,FALSE()),0) -> 0 | P5: 0 | Q5: =J5-L5-N5-O5-P5 -> 39165
A6: 2026-27 | B6: August | C6: EMP2001 | D6: =IFERROR(VLOOKUP(C6,'Employee Master'!$A:$H,2,FALSE()),"") -> Aarav Mehta | E6: =IFERROR(VLOOKUP(C6,'Employee Master'!$A:$H,3,FALSE()),"") -> HR | F6: =IFERROR(VLOOKUP(C6,'Employee Master'!$A:$H,4,FALSE()),0) -> 42000 | G6: =F6*0.5 -> 21000 | H6: =F6*0.2 -> 8400 | I6: =F6-G6-H6 -> 12600 | J6: =G6+H6+I6 -> 42000 | K6: 0.12 | L6: =G6*K6 -> 2520 | M6: 0.0075 | N6: =J6*M6 -> 315 | O6: =IFERROR(VLOOKUP(C6,'Annual Tax Summary'!$A:$O,15,FALSE()),0) -> 0 | P6: 0 | Q6: =J6-L6-N6-O6-P6 -> 39165
A7: 2026-27 | B7: September | C7: EMP2001 | D7: =IFERROR(VLOOKUP(C7,'Employee Master'!$A:$H,2,FALSE()),"") -> Aarav Mehta | E7: =IFERROR(VLOOKUP(C7,'Employee Master'!$A:$H,3,FALSE()),"") -> HR | F7: =IFERROR(VLOOKUP(C7,'Employee Master'!$A:$H,4,FALSE()),0) -> 42000 | G7: =F7*0.5 -> 21000 | H7: =F7*0.2 -> 8400 | I7: =F7-G7-H7 -> 12600 | J7: =G7+H7+I7 -> 42000 | K7: 0.12 | L7: =G7*K7 -> 2520 | M7: 0.0075 | N7: =J7*M7 -> 315 | O7: =IFERROR(VLOOKUP(C7,'Annual Tax Summary'!$A:$O,15,FALSE()),0) -> 0 | P7: 0 | Q7: =J7-L7-N7-O7-P7 -> 39165
A8: 2026-27 | B8: October | C8: EMP2001 | D8: =IFERROR(VLOOKUP(C8,'Employee Master'!$A:$H,2,FALSE()),"") -> Aarav Mehta | E8: =IFERROR(VLOOKUP(C8,'Employee Master'!$A:$H,3,FALSE()),"") -> HR | F8: =IFERROR(VLOOKUP(C8,'Employee Master'!$A:$H,4,FALSE()),0) -> 42000 | G8: =F8*0.5 -> 21000 | H8: =F8*0.2 -> 8400 | I8: =F8-G8-H8 -> 12600 | J8: =G8+H8+I8 -> 42000 | K8: 0.12 | L8: =G8*K8 -> 2520 | M8: 0.0075 | N8: =J8*M8 -> 315 | O8: =IFERROR(VLOOKUP(C8,'Annual Tax Summary'!$A:$O,15,FALSE()),0) -> 0 | P8: 0 | Q8: =J8-L8-N8-O8-P8 -> 39165
A9: 2026-27 | B9: November | C9: EMP2001 | D9: =IFERROR(VLOOKUP(C9,'Employee Master'!$A:$H,2,FALSE()),"") -> Aarav Mehta | E9: =IFERROR(VLOOKUP(C9,'Employee Master'!$A:$H,3,FALSE()),"") -> HR | F9: =IFERROR(VLOOKUP(C9,'Employee Master'!$A:$H,4,FALSE()),0) -> 42000 | G9: =F9*0.5 -> 21000 | H9: =F9*0.2 -> 8400 | I9: =F9-G9-H9 -> 12600 | J9: =G9+H9+I9 -> 42000 | K9: 0.12 | L9: =G9*K9 -> 2520 | M9: 0.0075 | N9: =J9*M9 -> 315 | O9: =IFERROR(VLOOKUP(C9,'Annual Tax Summary'!$A:$O,15,FALSE()),0) -> 0 | P9: 0 | Q9: =J9-L9-N9-O9-P9 -> 39165
A10: 2026-27 | B10: December | C10: EMP2001 | D10: =IFERROR(VLOOKUP(C10,'Employee Master'!$A:$H,2,FALSE()),"") -> Aarav Mehta | E10: =IFERROR(VLOOKUP(C10,'Employee Master'!$A:$H,3,FALSE()),"") -> HR | F10: =IFERROR(VLOOKUP(C10,'Employee Master'!$A:$H,4,FALSE()),0) -> 42000 | G10: =F10*0.5 -> 21000 | H10: =F10*0.2 -> 8400 | I10: =F10-G10-H10 -> 12600 | J10: =G10+H10+I10 -> 42000 | K10: 0.12 | L10: =G10*K10 -> 2520 | M10: 0.0075 | N10: =J10*M10 -> 315 | O10: =IFERROR(VLOOKUP(C10,'Annual Tax Summary'!$A:$O,15,FALSE()),0) -> 0 | P10: 0 | Q10: =J10-L10-N10-O10-P10 -> 39165
A11: 2026-27 | B11: January | C11: EMP2001 | D11: =IFERROR(VLOOKUP(C11,'Employee Master'!$A:$H,2,FALSE()),"") -> Aarav Mehta | E11: =IFERROR(VLOOKUP(C11,'Employee Master'!$A:$H,3,FALSE()),"") -> HR | F11: =IFERROR(VLOOKUP(C11,'Employee Master'!$A:$H,4,FALSE()),0) -> 42000 | G11: =F11*0.5 -> 21000 | H11: =F11*0.2 -> 8400 | I11: =F11-G11-H11 -> 12600 | J11: =G11+H11+I11 -> 42000 | K11: 0.12 | L11: =G11*K11 -> 2520 | M11: 0.0075 | N11: =J11*M11 -> 315 | O11: =IFERROR(VLOOKUP(C11,'Annual Tax Summary'!$A:$O,15,FALSE()),0) -> 0 | P11: 0 | Q11: =J11-L11-N11-O11-P11 -> 39165
A12: 2026-27 | B12: February | C12: EMP2001 | D12: =IFERROR(VLOOKUP(C12,'Employee Master'!$A:$H,2,FALSE()),"") -> Aarav Mehta | E12: =IFERROR(VLOOKUP(C12,'Employee Master'!$A:$H,3,FALSE()),"") -> HR | F12: =IFERROR(VLOOKUP(C12,'Employee Master'!$A:$H,4,FALSE()),0) -> 42000 | G12: =F12*0.5 -> 21000 | H12: =F12*0.2 -> 8400 | I12: =F12-G12-H12 -> 12600 | J12: =G12+H12+I12 -> 42000 | K12: 0.12 | L12: =G12*K12 -> 2520 | M12: 0.0075 | N12: =J12*M12 -> 315 | O12: =IFERROR(VLOOKUP(C12,'Annual Tax Summary'!$A:$O,15,FALSE()),0) -> 0 | P12: 0 | Q12: =J12-L12-N12-O12-P12 -> 39165
A13: 2026-27 | B13: March | C13: EMP2001 | D13: =IFERROR(VLOOKUP(C13,'Employee Master'!$A:$H,2,FALSE()),"") -> Aarav Mehta | E13: =IFERROR(VLOOKUP(C13,'Employee Master'!$A:$H,3,FALSE()),"") -> HR | F13: =IFERROR(VLOOKUP(C13,'Employee Master'!$A:$H,4,FALSE()),0) -> 42000 | G13: =F13*0.5 -> 21000 | H13: =F13*0.2 -> 8400 | I13: =F13-G13-H13 -> 12600 | J13: =G13+H13+I13 -> 42000 | K13: 0.12 | L13: =G13*K13 -> 2520 | M13: 0.0075 | N13: =J13*M13 -> 315 | O13: =IFERROR(VLOOKUP(C13,'Annual Tax Summary'!$A:$O,15,FALSE()),0) -> 0 | P13: 0 | Q13: =J13-L13-N13-O13-P13 -> 39165
... A121: 2026-27 | B121: March | C121: EMP2010 | D121: =IFERROR(VLOOKUP(C121,'Employee Master'!$A:$H,2,FALSE()),"") -> Sara Khan | E121: =IFERROR(VLOOKUP(C121,'Employee Master'!$A:$H,3,FALSE()),"") -> Payroll | F121: =IFERROR(VLOOKUP(C121,'Employee Master'!$A:$H,4,FALSE()),0) -> 49000 | G121: =F121*0.5 -> 24500 | H121: =F121*0.2 -> 9800 | I121: =F121-G121-H121 -> 14700 | J121: =G121+H121+I121 -> 49000 | K121: 0.12 | L121: =G121*K121 -> 2940 | M121: 0.0075 | N121: =J121*M121 -> 367.5 | O121: =IFERROR(VLOOKUP(C121,'Annual Tax Summary'!$A:$O,15,FALSE()),0) -> 0 | P121: 0 | Q121: =J121-L121-N121-O121-P121 -> 45692.5

Sheet Annual Tax Summary
A1: Employee ID | B1: Employee Name | C1: Tax Year | D1: Regime | E1: Annual Gross Salary | F1: Standard Deduction | G1: Other Deductions | H1: Taxable Income | I1: Tax Before Rebate | J1: Rebate Estimate | K1: Cess (4%) | L1: Annual Tax Estimate | M1: TDS Already Paid | N1: Remaining Tax | O1: Monthly TDS Suggestion | P1: Disclaimer
A2: EMP2001 | B2: =IFERROR(VLOOKUP(A2,'Employee Master'!$A:$H,2,FALSE()),"") -> Aarav Mehta | C2: 2026-27 | D2: =IFERROR(VLOOKUP(A2,'Employee Master'!$A:$H,5,FALSE()),"New") -> New | E2: =IFERROR(VLOOKUP(A2,'Employee Master'!$A:$H,4,FALSE())*12,0) -> 504000 | F2: =IFERROR(VLOOKUP(A2,'Employee Master'!$A:$H,6,FALSE()),75000) -> 75000 | G2: =IFERROR(VLOOKUP(A2,'Employee Master'!$A:$H,7,FALSE()),0) -> 0 | H2: =MAX(0,E2-F2-IF(D2="Old",G2,0)) -> 429000 | I2: =IF(D2="New",IF(H2<=400000,0,IF(H2<=800000,(H2-400000)*5%,IF(H2<=1200000,20000+(H2-800000)*10%,IF(H2<=1600000,60000+(H2-1200000)*15%,IF(H2<=2000000,120000+(H2-1600000)*20%,IF(H2<=2400000,200000+(H2-2000000)*25%,300000+(H2-2400000)*30%)))))),IF(H2<=250000,0,IF(H2<=500000,(H2-250000)*5%,IF(H2<=1000000,12500+(H2-500000)*20%,112500+(H2-1000000)*30%)))) -> 1450 | J2: =IF(AND(D2="New",H2<=1200000),MIN(I2,60000),IF(AND(D2="Old",H2<=500000),MIN(I2,12500),0)) -> 1450 | K2: =(I2-J2)*4% -> 0 | L2: =I2-J2+K2 -> 0 | M2: =IFERROR(VLOOKUP(A2,'Employee Master'!$A:$H,8,FALSE()),0) -> 0 | N2: =L2-M2 -> 0 | O2: =MAX(0,N2/12) -> 0 | P2: Illustrative estimate only; verify current law, eligibility, rebate, surcharge and actual payroll rules.
A3: EMP2002 | B3: =IFERROR(VLOOKUP(A3,'Employee Master'!$A:$H,2,FALSE()),"") -> Nisha Rao | C3: 2026-27 | D3: =IFERROR(VLOOKUP(A3,'Employee Master'!$A:$H,5,FALSE()),"New") -> New | E3: =IFERROR(VLOOKUP(A3,'Employee Master'!$A:$H,4,FALSE())*12,0) -> 558000 | F3: =IFERROR(VLOOKUP(A3,'Employee Master'!$A:$H,6,FALSE()),75000) -> 75000 | G3: =IFERROR(VLOOKUP(A3,'Employee Master'!$A:$H,7,FALSE()),0) -> 0 | H3: =MAX(0,E3-F3-IF(D3="Old",G3,0)) -> 483000 | I3: =IF(D3="New",IF(H3<=400000,0,IF(H3<=800000,(H3-400000)*5%,IF(H3<=1200000,20000+(H3-800000)*10%,IF(H3<=1600000,60000+(H3-1200000)*15%,IF(H3<=2000000,120000+(H3-1600000)*20%,IF(H3<=2400000,200000+(H3-2000000)*25%,300000+(H3-2400000)*30%)))))),IF(H3<=250000,0,IF(H3<=500000,(H3-250000)*5%,IF(H3<=1000000,12500+(H3-500000)*20%,112500+(H3-1000000)*30%)))) -> 4150 | J3: =IF(AND(D3="New",H3<=1200000),MIN(I3,60000),IF(AND(D3="Old",H3<=500000),MIN(I3,12500),0)) -> 4150 | K3: =(I3-J3)*4% -> 0 | L3: =I3-J3+K3 -> 0 | M3: =IFERROR(VLOOKUP(A3,'Employee Master'!$A:$H,8,FALSE()),0) -> 0 | N3: =L3-M3 -> 0 | O3: =MAX(0,N3/12) -> 0 | P3: Illustrative estimate only; verify current law, eligibility, rebate, surcharge and actual payroll rules.
A4: EMP2003 | B4: =IFERROR(VLOOKUP(A4,'Employee Master'!$A:$H,2,FALSE()),"") -> Rohan Das | C4: 2026-27 | D4: =IFERROR(VLOOKUP(A4,'Employee Master'!$A:$H,5,FALSE()),"New") -> New | E4: =IFERROR(VLOOKUP(A4,'Employee Master'!$A:$H,4,FALSE())*12,0) -> 462000 | F4: =IFERROR(VLOOKUP(A4,'Employee Master'!$A:$H,6,FALSE()),75000) -> 75000 | G4: =IFERROR(VLOOKUP(A4,'Employee Master'!$A:$H,7,FALSE()),0) -> 0 | H4: =MAX(0,E4-F4-IF(D4="Old",G4,0)) -> 387000 | I4: =IF(D4="New",IF(H4<=400000,0,IF(H4<=800000,(H4-400000)*5%,IF(H4<=1200000,20000+(H4-800000)*10%,IF(H4<=1600000,60000+(H4-1200000)*15%,IF(H4<=2000000,120000+(H4-1600000)*20%,IF(H4<=2400000,200000+(H4-2000000)*25%,300000+(H4-2400000)*30%)))))),IF(H4<=250000,0,IF(H4<=500000,(H4-250000)*5%,IF(H4<=1000000,12500+(H4-500000)*20%,112500+(H4-1000000)*30%)))) -> 0 | J4: =IF(AND(D4="New",H4<=1200000),MIN(I4,60000),IF(AND(D4="Old",H4<=500000),MIN(I4,12500),0)) -> 0 | K4: =(I4-J4)*4% -> 0 | L4: =I4-J4+K4 -> 0 | M4: =IFERROR(VLOOKUP(A4,'Employee Master'!$A:$H,8,FALSE()),0) -> 0 | N4: =L4-M4 -> 0 | O4: =MAX(0,N4/12) -> 0 | P4: Illustrative estimate only; verify current law, eligibility, rebate, surcharge and actual payroll rules.
A5: EMP2004 | B5: =IFERROR(VLOOKUP(A5,'Employee Master'!$A:$H,2,FALSE()),"") -> Meera Iyer | C5: 2026-27 | D5: =IFERROR(VLOOKUP(A5,'Employee Master'!$A:$H,5,FALSE()),"New") -> Old | E5: =IFERROR(VLOOKUP(A5,'Employee Master'!$A:$H,4,FALSE())*12,0) -> 612000 | F5: =IFERROR(VLOOKUP(A5,'Employee Master'!$A:$H,6,FALSE()),75000) -> 50000 | G5: =IFERROR(VLOOKUP(A5,'Employee Master'!$A:$H,7,FALSE()),0) -> 100000 | H5: =MAX(0,E5-F5-IF(D5="Old",G5,0)) -> 462000 | I5: =IF(D5="New",IF(H5<=400000,0,IF(H5<=800000,(H5-400000)*5%,IF(H5<=1200000,20000+(H5-800000)*10%,IF(H5<=1600000,60000+(H5-1200000)*15%,IF(H5<=2000000,120000+(H5-1600000)*20%,IF(H5<=2400000,200000+(H5-2000000)*25%,300000+(H5-2400000)*30%)))))),IF(H5<=250000,0,IF(H5<=500000,(H5-250000)*5%,IF(H5<=1000000,12500+(H5-500000)*20%,112500+(H5-1000000)*30%)))) -> 10600 | J5: =IF(AND(D5="New",H5<=1200000),MIN(I5,60000),IF(AND(D5="Old",H5<=500000),MIN(I5,12500),0)) -> 10600 | K5: =(I5-J5)*4% -> 0 | L5: =I5-J5+K5 -> 0 | M5: =IFERROR(VLOOKUP(A5,'Employee Master'!$A:$H,8,FALSE()),0) -> 12000 | N5: =L5-M5 -> -12000 | O5: =MAX(0,N5/12) -> 0 | P5: Illustrative estimate only; verify current law, eligibility, rebate, surcharge and actual payroll rules.
A6: EMP2005 | B6: =IFERROR(VLOOKUP(A6,'Employee Master'!$A:$H,2,FALSE()),"") -> Kabir Shah | C6: 2026-27 | D6: =IFERROR(VLOOKUP(A6,'Employee Master'!$A:$H,5,FALSE()),"New") -> New | E6: =IFERROR(VLOOKUP(A6,'Employee Master'!$A:$H,4,FALSE())*12,0) -> 528000 | F6: =IFERROR(VLOOKUP(A6,'Employee Master'!$A:$H,6,FALSE()),75000) -> 75000 | G6: =IFERROR(VLOOKUP(A6,'Employee Master'!$A:$H,7,FALSE()),0) -> 0 | H6: =MAX(0,E6-F6-IF(D6="Old",G6,0)) -> 453000 | I6: =IF(D6="New",IF(H6<=400000,0,IF(H6<=800000,(H6-400000)*5%,IF(H6<=1200000,20000+(H6-800000)*10%,IF(H6<=1600000,60000+(H6-1200000)*15%,IF(H6<=2000000,120000+(H6-1600000)*20%,IF(H6<=2400000,200000+(H6-2000000)*25%,300000+(H6-2400000)*30%)))))),IF(H6<=250000,0,IF(H6<=500000,(H6-250000)*5%,IF(H6<=1000000,12500+(H6-500000)*20%,112500+(H6-1000000)*30%)))) -> 2650 | J6: =IF(AND(D6="New",H6<=1200000),MIN(I6,60000),IF(AND(D6="Old",H6<=500000),MIN(I6,12500),0)) -> 2650 | K6: =(I6-J6)*4% -> 0 | L6: =I6-J6+K6 -> 0 | M6: =IFERROR(VLOOKUP(A6,'Employee Master'!$A:$H,8,FALSE()),0) -> 0 | N6: =L6-M6 -> 0 | O6: =MAX(0,N6/12) -> 0 | P6: Illustrative estimate only; verify current law, eligibility, rebate, surcharge and actual payroll rules.
A7: EMP2006 | B7: =IFERROR(VLOOKUP(A7,'Employee Master'!$A:$H,2,FALSE()),"") -> Anaya Sen | C7: 2026-27 | D7: =IFERROR(VLOOKUP(A7,'Employee Master'!$A:$H,5,FALSE()),"New") -> New | E7: =IFERROR(VLOOKUP(A7,'Employee Master'!$A:$H,4,FALSE())*12,0) -> 570000 | F7: =IFERROR(VLOOKUP(A7,'Employee Master'!$A:$H,6,FALSE()),75000) -> 75000 | G7: =IFERROR(VLOOKUP(A7,'Employee Master'!$A:$H,7,FALSE()),0) -> 0 | H7: =MAX(0,E7-F7-IF(D7="Old",G7,0)) -> 495000 | I7: =IF(D7="New",IF(H7<=400000,0,IF(H7<=800000,(H7-400000)*5%,IF(H7<=1200000,20000+(H7-800000)*10%,IF(H7<=1600000,60000+(H7-1200000)*15%,IF(H7<=2000000,120000+(H7-1600000)*20%,IF(H7<=2400000,200000+(H7-2000000)*25%,300000+(H7-2400000)*30%)))))),IF(H7<=250000,0,IF(H7<=500000,(H7-250000)*5%,IF(H7<=1000000,12500+(H7-500000)*20%,112500+(H7-1000000)*30%)))) -> 4750 | J7: =IF(AND(D7="New",H7<=1200000),MIN(I7,60000),IF(AND(D7="Old",H7<=500000),MIN(I7,12500),0)) -> 4750 | K7: =(I7-J7)*4% -> 0 | L7: =I7-J7+K7 -> 0 | M7: =IFERROR(VLOOKUP(A7,'Employee Master'!$A:$H,8,FALSE()),0) -> 0 | N7: =L7-M7 -> 0 | O7: =MAX(0,N7/12) -> 0 | P7: Illustrative estimate only; verify current law, eligibility, rebate, surcharge and actual payroll rules.
A8: EMP2007 | B8: =IFERROR(VLOOKUP(A8,'Employee Master'!$A:$H,2,FALSE()),"") -> Dev Patel | C8: 2026-27 | D8: =IFERROR(VLOOKUP(A8,'Employee Master'!$A:$H,5,FALSE()),"New") -> Old | E8: =IFERROR(VLOOKUP(A8,'Employee Master'!$A:$H,4,FALSE())*12,0) -> 432000 | F8: =IFERROR(VLOOKUP(A8,'Employee Master'!$A:$H,6,FALSE()),75000) -> 50000 | G8: =IFERROR(VLOOKUP(A8,'Employee Master'!$A:$H,7,FALSE()),0) -> 80000 | H8: =MAX(0,E8-F8-IF(D8="Old",G8,0)) -> 302000 | I8: =IF(D8="New",IF(H8<=400000,0,IF(H8<=800000,(H8-400000)*5%,IF(H8<=1200000,20000+(H8-800000)*10%,IF(H8<=1600000,60000+(H8-1200000)*15%,IF(H8<=2000000,120000+(H8-1600000)*20%,IF(H8<=2400000,200000+(H8-2000000)*25%,300000+(H8-2400000)*30%)))))),IF(H8<=250000,0,IF(H8<=500000,(H8-250000)*5%,IF(H8<=1000000,12500+(H8-500000)*20%,112500+(H8-1000000)*30%)))) -> 2600 | J8: =IF(AND(D8="New",H8<=1200000),MIN(I8,60000),IF(AND(D8="Old",H8<=500000),MIN(I8,12500),0)) -> 2600 | K8: =(I8-J8)*4% -> 0 | L8: =I8-J8+K8 -> 0 | M8: =IFERROR(VLOOKUP(A8,'Employee Master'!$A:$H,8,FALSE()),0) -> 6000 | N8: =L8-M8 -> -6000 | O8: =MAX(0,N8/12) -> 0 | P8: Illustrative estimate only; verify current law, eligibility, rebate, surcharge and actual payroll rules.
A9: EMP2008 | B9: =IFERROR(VLOOKUP(A9,'Employee Master'!$A:$H,2,FALSE()),"") -> Tara Nair | C9: 2026-27 | D9: =IFERROR(VLOOKUP(A9,'Employee Master'!$A:$H,5,FALSE()),"New") -> New | E9: =IFERROR(VLOOKUP(A9,'Employee Master'!$A:$H,4,FALSE())*12,0) -> 642000 | F9: =IFERROR(VLOOKUP(A9,'Employee Master'!$A:$H,6,FALSE()),75000) -> 75000 | G9: =IFERROR(VLOOKUP(A9,'Employee Master'!$A:$H,7,FALSE()),0) -> 0 | H9: =MAX(0,E9-F9-IF(D9="Old",G9,0)) -> 567000 | I9: =IF(D9="New",IF(H9<=400000,0,IF(H9<=800000,(H9-400000)*5%,IF(H9<=1200000,20000+(H9-800000)*10%,IF(H9<=1600000,60000+(H9-1200000)*15%,IF(H9<=2000000,120000+(H9-1600000)*20%,IF(H9<=2400000,200000+(H9-2000000)*25%,300000+(H9-2400000)*30%)))))),IF(H9<=250000,0,IF(H9<=500000,(H9-250000)*5%,IF(H9<=1000000,12500+(H9-500000)*20%,112500+(H9-1000000)*30%)))) -> 8350 | J9: =IF(AND(D9="New",H9<=1200000),MIN(I9,60000),IF(AND(D9="Old",H9<=500000),MIN(I9,12500),0)) -> 8350 | K9: =(I9-J9)*4% -> 0 | L9: =I9-J9+K9 -> 0 | M9: =IFERROR(VLOOKUP(A9,'Employee Master'!$A:$H,8,FALSE()),0) -> 0 | N9: =L9-M9 -> 0 | O9: =MAX(0,N9/12) -> 0 | P9: Illustrative estimate only; verify current law, eligibility, rebate, surcharge and actual payroll rules.
A10: EMP2009 | B10: =IFERROR(VLOOKUP(A10,'Employee Master'!$A:$H,2,FALSE()),"") -> Ishaan Roy | C10: 2026-27 | D10: =IFERROR(VLOOKUP(A10,'Employee Master'!$A:$H,5,FALSE()),"New") -> New | E10: =IFERROR(VLOOKUP(A10,'Employee Master'!$A:$H,4,FALSE())*12,0) -> 546000 | F10: =IFERROR(VLOOKUP(A10,'Employee Master'!$A:$H,6,FALSE()),75000) -> 75000 | G10: =IFERROR(VLOOKUP(A10,'Employee Master'!$A:$H,7,FALSE()),0) -> 0 | H10: =MAX(0,E10-F10-IF(D10="Old",G10,0)) -> 471000 | I10: =IF(D10="New",IF(H10<=400000,0,IF(H10<=800000,(H10-400000)*5%,IF(H10<=1200000,20000+(H10-800000)*10%,IF(H10<=1600000,60000+(H10-1200000)*15%,IF(H10<=2000000,120000+(H10-1600000)*20%,IF(H10<=2400000,200000+(H10-2000000)*25%,300000+(H10-2400000)*30%)))))),IF(H10<=250000,0,IF(H10<=500000,(H10-250000)*5%,IF(H10<=1000000,12500+(H10-500000)*20%,112500+(H10-1000000)*30%)))) -> 3550 | J10: =IF(AND(D10="New",H10<=1200000),MIN(I10,60000),IF(AND(D10="Old",H10<=500000),MIN(I10,12500),0)) -> 3550 | K10: =(I10-J10)*4% -> 0 | L10: =I10-J10+K10 -> 0 | M10: =IFERROR(VLOOKUP(A10,'Employee Master'!$A:$H,8,FALSE()),0) -> 0 | N10: =L10-M10 -> 0 | O10: =MAX(0,N10/12) -> 0 | P10: Illustrative estimate only; verify current law, eligibility, rebate, surcharge and actual payroll rules.
A11: EMP2010 | B11: =IFERROR(VLOOKUP(A11,'Employee Master'!$A:$H,2,FALSE()),"") -> Sara Khan | C11: 2026-27 | D11: =IFERROR(VLOOKUP(A11,'Employee Master'!$A:$H,5,FALSE()),"New") -> Old | E11: =IFERROR(VLOOKUP(A11,'Employee Master'!$A:$H,4,FALSE())*12,0) -> 588000 | F11: =IFERROR(VLOOKUP(A11,'Employee Master'!$A:$H,6,FALSE()),75000) -> 50000 | G11: =IFERROR(VLOOKUP(A11,'Employee Master'!$A:$H,7,FALSE()),0) -> 120000 | H11: =MAX(0,E11-F11-IF(D11="Old",G11,0)) -> 418000 | I11: =IF(D11="New",IF(H11<=400000,0,IF(H11<=800000,(H11-400000)*5%,IF(H11<=1200000,20000+(H11-800000)*10%,IF(H11<=1600000,60000+(H11-1200000)*15%,IF(H11<=2000000,120000+(H11-1600000)*20%,IF(H11<=2400000,200000+(H11-2000000)*25%,300000+(H11-2400000)*30%)))))),IF(H11<=250000,0,IF(H11<=500000,(H11-250000)*5%,IF(H11<=1000000,12500+(H11-500000)*20%,112500+(H11-1000000)*30%)))) -> 8400 | J11: =IF(AND(D11="New",H11<=1200000),MIN(I11,60000),IF(AND(D11="Old",H11<=500000),MIN(I11,12500),0)) -> 8400 | K11: =(I11-J11)*4% -> 0 | L11: =I11-J11+K11 -> 0 | M11: =IFERROR(VLOOKUP(A11,'Employee Master'!$A:$H,8,FALSE()),0) -> 15000 | N11: =L11-M11 -> -15000 | O11: =MAX(0,N11/12) -> 0 | P11: Illustrative estimate only; verify current law, eligibility, rebate, surcharge and actual payroll rules.

Sheet Instructions
A1: Topic | B1: Instructions
A2: Purpose | B2: Year-wise and month-wise payroll/TDS working-paper template for 10 fictional employees.
A3: Update employee data | B3: Edit the Employee Master sheet. Monthly Payroll and Annual Tax Summary use Employee ID lookups.
A4: Monthly payroll | B4: 12 months are provided per employee. Basic/HRA/other allowance formulas are illustrative and may be edited.
A5: TDS estimate | B5: Annual Tax Summary uses simplified individual slabs and an estimated rebate. It is not a full statutory tax engine and omits surcharge, marginal relief, special-rate income and other complex cases.
A6: Statutory rates | B6: PF and ESI columns are sample editable rates, not a determination of employee eligibility, wage ceilings, or statutory contributions.
A7: Excel version | B7: Uses VLOOKUP and standard formulas compatible with many Excel versions.
A8: Before payroll use | B8: Validate tax year, applicable rules, employee-specific eligibility and payroll policy before paying or filing.
